BEGIN:VCALENDAR
VERSION:2.0
PRODID:-//wp-events-plugin.com//6.4.6.4//EN
BEGIN:VEVENT
UID:7@drcarla.com
DTSTART:20140313T003000Z
DTEND:20140313T020000Z
DTSTAMP:20140215T231651Z
URL:https://drcarla.com/home/events/4552/
SUMMARY:Parent Education Workshop - Redbank Middle School
DESCRIPTION:Dr. Carla will be speaking to parents at Redbank Middle School 
 at an event sponsored by the Junior League of Monmouth County.\n\n\n\nhttp
 ://www.jlmc.org/
CATEGORIES:Speaking Engagements,Workshops for Parents
LOCATION:Red Bank Middle School Auditorium\, 101 Harding Rd.\, Red Bank\, N
 J\, United States
GEO:40.346901;-74.06085000000002
X-APPLE-STRUCTURED-LOCATION;VALUE=URI;X-ADDRESS=101 Harding Rd.\, Red Bank\
 , NJ\, United States;X-APPLE-RADIUS=100;X-TITLE=Red Bank Middle School Aud
 itorium:geo:40.346901,-74.06085000000002
END:VEVENT
END:VCALENDAR