BEGIN:VCALENDAR
VERSION:2.0
PRODID:-//wp-events-plugin.com//6.4.6.4//EN
BEGIN:VEVENT
UID:8@drcarla.com
DTSTART:20140410T190000Z
DTEND:20140410T210000Z
DTSTAMP:20140314T225031Z
URL:https://drcarla.com/home/events/boys-girls-clubs-of-america-national-k
 eystone-conference-for-smart-girls-only-expo/
SUMMARY:Boys & Girls Clubs of America National Keystone Conference & For SM
 ART Girls Only Expo
DESCRIPTION:Dr. Carla will host a viewing party for teen girls and their ad
 ult advisors featuring the short documentary "Selfie" by Dove\, which exp
 lores the topic of beauty with teen girls and their mothers.  After the d
 ocumentary\, she will facilitate a workshop on selfies\,  self-esteem\, b
 ody image and social media.\n\nDr. Carla will also be the subject matter e
 xpert and manage a booth on media influences at the For SMART Girls Only E
 xpo.\n\nAbout the Keystone Club Program\n\nNow entering its 50th year\, Ke
 ystone is Boys &amp\; Girls Clubs of America’s premier teen leadership p
 rogram. Keystone Clubs are teen leadership groups within Boys &amp\; Girls
  Clubs that focus on leadership development through community service proj
 ects. They are part of a multi-million dollar teen outreach initiative fu
 nded by Taco Bell Foundation for Teens. This unique leadership development
  experience provides opportunities for young people ages 14 to 18 to parti
 cipate in Club and community projects in three focus areas: academic succe
 ss\, career preparation and community service.\n\nAbout SMART Girls\n\nSMA
 RT Girls is Boys &amp\; Girls Clubs of America's premiere program that hel
 ps girls develop healthy attitudes and lifestyles by addressing health and
  social issues that are specific to female Club members.\n\nMore info: ht
 tp://www.bgca.org/
ATTACH;FMTTYPE=image/jpeg:https://drcarla.com/home/wp-content/uploads/2014
 /03/JBGCcen.jpg
CATEGORIES:Speaking Engagements
LOCATION:Anaheim Marriott Hotel\, 700 W Convention Way\, Anaheim \, Califor
 nia\, 92802\, United States
GEO:33.7983665;-117.9187569
X-APPLE-STRUCTURED-LOCATION;VALUE=URI;X-ADDRESS=700 W Convention Way\, Anah
 eim \, California\, 92802\, United States;X-APPLE-RADIUS=100;X-TITLE=Anahe
 im Marriott Hotel:geo:33.7983665,-117.9187569
END:VEVENT
END:VCALENDAR