BEGIN:VCALENDAR
VERSION:2.0
PRODID:-//wp-events-plugin.com//6.4.6.4//EN
BEGIN:VEVENT
UID:1@drcarla.com
DTSTART:20140204T194500Z
DTEND:20140204T220000Z
DTSTAMP:20140122T185543Z
URL:https://drcarla.com/home/events/hip-hop-literacies-a-working-conferenc
 e-at-ohio-state-university/
SUMMARY:Hip Hop Literacies: A Working Conference at Ohio State University
DESCRIPTION:\nBlack Girlhood &amp\; Hip Hop\nDr. Carla will be speaking at 
 the 2014 Hip Hop Literacies Conference at Ohio State University.\n\nWorksh
 op Description\n\n\n\nHip hop-influenced popular culture has been criticiz
 ed for glorifying sex\, violence\, misogyny\, consumerism\, substance use 
 and risky behaviors that disproportionately impact youth of color and Blac
 k girls.  Based on Dr. Carla's award-winning research on the intersection
 s between Black adolescent girls’ sexuality\, identity and body image wi
 th youth culture\, hip hop and social media\, this workshop is designed to
  assist educators\, mentors\, adult allies\, youth workers and girl-servin
 g professionals in understanding the role of hip hop-influenced popular cu
 lture in the lives of Black girls.\n\nIn this interactive workshop\, Dr. C
 arla will provide an overview of the sexualization of girls in the media a
 nd relevant health issues facing black girls\, including sexual health\, b
 ody image and intimate partner violence.  Participants will explore creat
 ive strategies and best practices for using hip hop as a tool for educatin
 g Black girls and involving them in health\, media literacy and youth deve
 lopment programs that challenge unhealthy gender norms and stereotypes.\n\
 nPlease note: Dr. Carla will be presenting during the entire workshop.\n\n
 Registration\n\nRegistration open until January 22nd or until full. Please
  register for the event. Must register in advance. Space is LIMITED!\n\nAd
 vance General Public-$5.00\nOnsite registration\, if space is available-$1
 0.00\n$5.00 FEE Guarantees your space as well as meals as indicated for bo
 th days!!\nOhio State students free with BuckID (must have Ohio State ema
 il address).\n\nMore Information\n\nhttp://ehe.osu.edu/conferences/hip-hop
 -literacies/\n\nAbout Dr. Carla\n\nDr. Carla Stokes\, PhD\, MPH is a teen 
 health and behavior expert\, girl empowerment advocate\, professional spea
 ker\, and success coach who specializes in helping young women\, girls\, a
 nd parents thrive through the pressures and transitions of adolescence. Dr
 . Carla is also the founder of Helping Our Teen Girls In Real Life Situati
 ons\, Inc. (HOTGIRLS)®\, an award-winning 501(c)(3) nonprofit organizatio
 n dedicated to empowering underserved young women and girls to develop lea
 dership skills\, create positive social change in their communities\, and 
 realize their full potential.\n\n\nDr. Carla began using hip hop-influence
  popular culture as an educational tool in the classroom in the 1990’s\,
  while she was enrolled as a student at Spelman College. She earned her Do
 ctor of Philosophy and Master of Public Health degrees from the University
  of Michigan and completed a post-doctoral research fellowship at the U.S.
  Centers for Disease Control and Prevention. During her doctoral studies a
 t the University of Michigan\, Dr. Carla taught a course on representation
 s of Black women in hip hop and popular culture as an instructor in the De
 partment of Women’s Studies. Her activism and pioneering scholarly resea
 rch have been published in academic journals and books and featured in nat
 ional media outlets.\n\n
ATTACH;FMTTYPE=image/jpeg:https://drcarla.com/home/wp-content/uploads/2014
 /01/recordingstudiodreams.jpg
CATEGORIES:Speaking Engagements,Workshops for Girl-Serving
 Professionals,Workshops for Parents
LOCATION:Frank Hale Black Cultural Center\, 154 W. 12th\, Ave.\, Columbus\,
  Ohio\, United States
GEO:39.9967807;-83.01167199999998
X-APPLE-STRUCTURED-LOCATION;VALUE=URI;X-ADDRESS=154 W. 12th\, Ave.\, Columb
 us\, Ohio\, United States;X-APPLE-RADIUS=100;X-TITLE=Frank Hale Black Cult
 ural Center:geo:39.9967807,-83.01167199999998
END:VEVENT
END:VCALENDAR