BEGIN:VCALENDAR
VERSION:2.0
PRODID:-//wp-events-plugin.com//6.4.6.4//EN
BEGIN:VEVENT
UID:3@drcarla.com
DTSTART:20140304T165000Z
DTEND:20140304T180000Z
DTSTAMP:20140215T235747Z
URL:https://drcarla.com/home/events/keynote-annual-child-safety-conference
 /
SUMMARY:Keynote - Annual Child Safety Conference - Decatur\, AL
DESCRIPTION:Dr. Carla will deliver a keynote at the Mental Health Associati
 on in Morgan County's Annual Child Safety Conference in Decatur\, AL.\n\n\
 n\nTo register\, visit: http://www.mhainmc.net/
CATEGORIES:Speaking Engagements
LOCATION:Decatur Baptist Church\, 2527 Danville Road SW\, Decatur\, AL\, Un
 ited States
GEO:34.563215;-87.02006599999999
X-APPLE-STRUCTURED-LOCATION;VALUE=URI;X-ADDRESS=2527 Danville Road SW\, Dec
 atur\, AL\, United States;X-APPLE-RADIUS=100;X-TITLE=Decatur Baptist Churc
 h:geo:34.563215,-87.02006599999999
END:VEVENT
END:VCALENDAR