BEGIN:VCALENDAR
VERSION:2.0
PRODID:-//wp-events-plugin.com//6.4.6.4//EN
BEGIN:VEVENT
UID:5@drcarla.com
DTSTART:20140312T010000Z
DTEND:20140312T023000Z
DTSTAMP:20140309T024824Z
URL:https://drcarla.com/home/events/private-event-the-junior-league-of-mon
 mouth-county-nj/
SUMMARY:Workshop - Junior League of Monmouth County\, NJ (Private Event)
DESCRIPTION:Dr. Carla will be speaking to members of the Junior League of M
 onmouth County at a private event in New Jersey.\n\nhttp://www.jlmc.org/
CATEGORIES:Speaking Engagements
END:VEVENT
END:VCALENDAR