BEGIN:VCALENDAR
VERSION:2.0
PRODID:-//wp-events-plugin.com//6.4.6.4//EN
BEGIN:VEVENT
UID:2@drcarla.com
DTSTART:20140126T220000Z
DTEND:20140127T000000Z
DTSTAMP:20231117T060357Z
URL:https://drcarla.com/home/events/town-hall-black-girls-in-atlanta-schoo
 ls/
SUMMARY:Join Dr. Carla and HOTGIRLS for a Town Hall Meeting on Black Girls 
 in Schools
DESCRIPTION:\n\nThe National Women's Law Center\, African-American Policy F
 orum\, Multi-Agency Alliance for Children\, the Atlanta Legal Aid Society\
 , the Women’s Center at Spelman College\, and Helping Our Teen Girls In 
 Real Life Situations\, Inc. (HOTGIRLS)® invite you to join us for a Town 
 Hall Meeting on the challenges that interfere with the success and achieve
 ment of Black girls in schools.\n\nFeaturing: Deborah Richardson\, Executi
 ve President of the National Center for Civil and Human Rights.\n\nWe espe
 cially want to hear from:\n\n 	Black women and girls\n 	educators\n 	paren
 ts\n 	advocates\n 	service providers\n 	community leaders\n 	policy makers
 \n 	clergy\n\nDr. Carla will join other concerned leaders and share a brie
 f testimony about her relevant experience as the founder of HOTGIRLS.\n\nT
 his event is open to the public.\nMore Information\nAtlanta Town Hall Flye
 r
ATTACH;FMTTYPE=image/jpeg:https://drcarla.com/home/wp-content/uploads/2014
 /01/girl-townhall.jpg
CATEGORIES:Speaking Engagements
LOCATION:HOPE Financial Dignity Center (MLK Sr. Community Resource Complex)
 \, 101 Jackson Street NE\, Atlanta\, GA\, United States
GEO:33.7572919;-84.37430840000002
X-APPLE-STRUCTURED-LOCATION;VALUE=URI;X-ADDRESS=101 Jackson Street NE\, Atl
 anta\, GA\, United States;X-APPLE-RADIUS=100;X-TITLE=HOPE Financial Dignit
 y Center (MLK Sr. Community Resource Complex):geo:33.7572919,-84.374308400
 00002
END:VEVENT
END:VCALENDAR