BEGIN:VCALENDAR
VERSION:2.0
PRODID:-//wp-events-plugin.com//6.4.6.4//EN
BEGIN:VEVENT
UID:6@drcarla.com
DTSTART:20140312T153000Z
DTEND:20140312T170000Z
DTSTAMP:20140215T232251Z
URL:https://drcarla.com/home/events/workshop-junior-league-of-monmouth-cou
 nty-nj/
SUMMARY: Workshop for Girl-Serving Professionals - Junior League of Monmout
 h County\, NJ
DESCRIPTION:Dr. Carla will be speaking to leaders of community organization
 s and girl-serving professionals at an event sponsored by the Junior Leagu
 e of Monmouth County.\n\n\n\nhttp://www.jlmc.org/
ATTACH;FMTTYPE=image/jpeg:https://drcarla.com/home/wp-content/uploads/2014
 /02/Dr._Carla_community_organization_flyer-kbedits-final.jpg
CATEGORIES:Speaking Engagements,Workshops for Girl-Serving Professionals
LOCATION:Junior League of Monmouth County Headquarters\, 55 Center St\, \, 
 Rumson\, NJ\, United States
GEO:40.370615;-73.99684730000001
X-APPLE-STRUCTURED-LOCATION;VALUE=URI;X-ADDRESS=55 Center St\, \, Rumson\, 
 NJ\, United States;X-APPLE-RADIUS=100;X-TITLE=Junior League of Monmouth Co
 unty Headquarters:geo:40.370615,-73.99684730000001
END:VEVENT
END:VCALENDAR